BEGIN:VCALENDAR
PRODID:-//github.com/rianjs/ical.net//NONSGML ical.net 4.0//EN
VERSION:2.0
BEGIN:VEVENT
DESCRIPTION:Ta med restegarn eller kjøp av oss så lager vi noe kjekt samme
 n! Passer både for deg som kan det og deg som vil lære noe nytt <3
DTEND:20260427T200000
DTSTAMP:20260421T115503Z
DTSTART:20260427T170000
LOCATION:Matværket
SEQUENCE:0
SUMMARY:Voksenmandag: hekle- og strikkeverksted
UID:f0a3be5a-0863-4d8d-9a9e-f6c5e5640526
END:VEVENT
END:VCALENDAR
