BEGIN:VCALENDAR
PRODID:-//github.com/rianjs/ical.net//NONSGML ical.net 4.0//EN
VERSION:2.0
BEGIN:VEVENT
DESCRIPTION:Spill lagspill som CS\, Valorant og Rush med andre gamere! Det
  blir sosialt\, lærerikt og gøy for ungdom og voksne 16+
DTEND:20260428T220000
DTSTAMP:20260421T115659Z
DTSTART:20260428T180000
LOCATION:Ehra E-sport (opp trappen ved hovedinngang c)
SEQUENCE:0
SUMMARY:Gamingtirsdag: gratis gaming for voksne og ungdom 16+
UID:4c062597-8a79-43e4-824d-2597ed2bad67
END:VEVENT
END:VCALENDAR
