BEGIN:VCALENDAR
PRODID:-//github.com/rianjs/ical.net//NONSGML ical.net 4.0//EN
VERSION:2.0
BEGIN:VEVENT
DESCRIPTION:Bli med på en koselig stund med sang\, lek og kos for de minst
 e!
DTEND:20260429T110000
DTSTAMP:20260425T125808Z
DTSTART:20260429T100000
LOCATION:Madhjørna (foodcourten)
SEQUENCE:0
SUMMARY:Barselonsdag: Babysang med Molly og Mi
UID:659275c7-2f25-4be0-b639-b8e10c6195e0
END:VEVENT
END:VCALENDAR
