BEGIN:VCALENDAR
PRODID:-//github.com/rianjs/ical.net//NONSGML ical.net 4.0//EN
VERSION:2.0
BEGIN:VEVENT
DESCRIPTION:Anna og Morten\, fra Plutselig Sirkus\, framfører et hjertevar
 mt sirkusshow for hele familien! Se imponerende sjonglering\, uforklarlig
  magi og rockeringkunster.
DTEND:20260425T151500
DTSTAMP:20260419T161328Z
DTSTART:20260425T103000
LOCATION:Hovedinngang C
SEQUENCE:0
SUMMARY:Barnelørdag: Plutselig sirkus
UID:d70e9e2d-3bf5-42e9-af0a-7aca2fb3ecb2
END:VEVENT
END:VCALENDAR
